BEGIN:VCALENDAR
VERSION:2.0
PRODID:-//ChamberMaster//Event Calendar 2.0//EN
METHOD:PUBLISH
X-PUBLISHED-TTL:P3D
REFRESH-INTERVAL:P3D
CALSCALE:GREGORIAN
BEGIN:VEVENT
DTSTART:20160912T180000Z
DTEND:20160912T190000Z
X-MICROSOFT-CDO-ALLDAYEVENT:FALSE
SUMMARY:WiN Luncheon
DESCRIPTION:United Way will be hosting a luncheon with guest speaker Claire Burroughes.
X-ALT-DESC;FMTTYPE=text/html:United Way will be hosting a luncheon with guest speaker Claire Burroughes.
LOCATION:Clovis Civic Center
UID:e.1197.2881
SEQUENCE:3
DTSTAMP:20260420T024932Z
URL:http://portales.chambermaster.com/events/details/win-luncheon-2881
END:VEVENT

END:VCALENDAR
